BEGIN:VCALENDAR
VERSION:2.0
PRODID:Calendar
METHOD:REQUEST
BEGIN:VEVENT
UID:60f732b33d8f5067e51c3833b4946173
DTSTART:20260624T070000Z
SEQUENCE:0
TRANSP:OPAQUE
DTEND:20260626T160000Z
LOCATION:Hoek 38 - Leuvenseweg 38\, 1000 Brussels
SUMMARY:8th International Prescriptivism Conference
CLASS:PUBLIC
ORGANIZER;CN=no-reply@vub.be:no-reply@vub.be
DTSTAMP:20260423T202306Z
END:VEVENT
END:VCALENDAR