BEGIN:VCALENDAR
VERSION:2.0
PRODID:Calendar
METHOD:REQUEST
BEGIN:VEVENT
UID:785066b8d34810e20f0f5aeae9998d99
DTSTART:20260526T173000Z
SEQUENCE:0
TRANSP:OPAQUE
DTEND:20260526T190000Z
LOCATION:Bozar - Ravensteinstraat 23\, 1000 Brussels
SUMMARY:Film: Un héritage empoisonné
CLASS:PUBLIC
ORGANIZER;CN=no-reply@vub.be:no-reply@vub.be
DTSTAMP:20260423T103236Z
END:VEVENT
END:VCALENDAR