BEGIN:VCALENDAR
VERSION:2.0
PRODID:Calendar
METHOD:REQUEST
BEGIN:VEVENT
UID:d9aec9a01f690522c905abae9806dae4
DTSTART:20260830T070000Z
SEQUENCE:0
TRANSP:OPAQUE
DTEND:20260830T130000Z
LOCATION: -  \,  
SUMMARY:Open Day Sunday 30 August 2026
CLASS:PUBLIC
DESCRIPTION:You're looking for a programme that suits you. That’s not an 
 easy task. Our professors will provide you with all the information you ne
 ed.
ORGANIZER;CN=no-reply@vub.be:no-reply@vub.be
DTSTAMP:20260423T233643Z
END:VEVENT
END:VCALENDAR