BEGIN:VCALENDAR
VERSION:2.0
PRODID:Calendar
METHOD:REQUEST
BEGIN:VEVENT
UID:4cfdc8dec74ef71339faebefd6ddabb5
DTSTART:20260521T173000Z
SEQUENCE:0
TRANSP:OPAQUE
DTEND:20260521T190000Z
LOCATION: Vlaams-Nederlands Huis deBuren - Leopoldstraat 6\, 1000 Brussels
SUMMARY:Talk: A War Against Nature
CLASS:PUBLIC
DESCRIPTION:On ecocide in wartime\, environmental destruction caused by arm
 ed conflict\, and the legal and political challenges.
ORGANIZER;CN=no-reply@vub.be:no-reply@vub.be
DTSTAMP:20260423T103109Z
END:VEVENT
END:VCALENDAR