BEGIN:VCALENDAR
VERSION:2.0
PRODID:Calendar
METHOD:REQUEST
BEGIN:VEVENT
UID:67a2f2ca1b07375f0c36a0184dc7845b
DTSTART:20260917T070000Z
SEQUENCE:0
TRANSP:OPAQUE
DTEND:20260917T150000Z
LOCATION:ACTO Taaltesten - Pleinlaan 11\, 1050 Elsene
SUMMARY:ITNA - 17 september 2026
CLASS:PUBLIC
DESCRIPTION:ITNA - 17 september 2026
ORGANIZER;CN=no-reply@vub.be:no-reply@vub.be
DTSTAMP:20260424T180601Z
END:VEVENT
END:VCALENDAR