BEGIN:VCALENDAR
VERSION:2.0
PRODID:Calendar
METHOD:REQUEST
BEGIN:VEVENT
UID:191bb53f3c5d7fe584a06f4ee2bde146
DTSTART:20260427T150000Z
SEQUENCE:0
TRANSP:OPAQUE
DTEND:20260427T180000Z
LOCATION:VUB Main Campus Etterbeek - Pleinlaan 2\, 1050 Elsene
SUMMARY:Self-supervised learning for scalable structural health monitoring
CLASS:PUBLIC
ORGANIZER;CN=no-reply@vub.be:no-reply@vub.be
DTSTAMP:20260426T023539Z
END:VEVENT
END:VCALENDAR