BEGIN:VCALENDAR
VERSION:2.0
PRODID:Calendar
METHOD:REQUEST
BEGIN:VEVENT
UID:eb38a03bf8e184723ae022b1e0df25e9
DTSTART:20260516T120000Z
SEQUENCE:0
TRANSP:OPAQUE
DTEND:20260516T160000Z
LOCATION:VUB–ULB float starting point - Ravenstein Street \, 1000 Brussel
SUMMARY:Join the celebrations at Brussels Pride
CLASS:PUBLIC
DESCRIPTION:On 16 May\, Brussels will once again be filled with all the col
 ours of the rainbow. Celebrate and defend with us the rights and freedoms 
 of LGBTQIA+ communities.
ORGANIZER;CN=no-reply@vub.be:no-reply@vub.be
DTSTAMP:20260424T142729Z
END:VEVENT
END:VCALENDAR