BEGIN:VCALENDAR
VERSION:2.0
PRODID:Calendar
METHOD:REQUEST
BEGIN:VEVENT
UID:e4123c862cce0ce214d4409c4c69243c
DTSTART:20260618T100000Z
SEQUENCE:0
TRANSP:OPAQUE
DTEND:20260618T120000Z
LOCATION:VUB Health Campus Jette -  Laarbeeklaan  103\, 1090 Jette
SUMMARY:Opleidingsintervisie - 12:00-14:00
CLASS:PUBLIC
DESCRIPTION:Bijscholingsbijeenkomst voor alle artsen\, stagemeesters en sup
 ervisoren betrokken bij begeleiding en evaluatie van arts-specialisten in 
 opleiding op de werkplek
ORGANIZER;CN=no-reply@vub.be:no-reply@vub.be
DTSTAMP:20260424T011134Z
END:VEVENT
END:VCALENDAR