BEGIN:VCALENDAR
VERSION:2.0
PRODID:Calendar
METHOD:REQUEST
BEGIN:VEVENT
UID:aac9d04c9f10b0848a5495516b14aa67
DTSTART:20260626T133000Z
SEQUENCE:0
TRANSP:OPAQUE
DTEND:20260626T150000Z
LOCATION:VUB Health Campus Jette -  Laarbeeklaan  103\, 1090 Jette
SUMMARY:Workshop \"Dagdagelijkse feedback\" - 15:30-17:00
CLASS:PUBLIC
DESCRIPTION:Bijscholing voor alle artsen -stagemeester of supervisor- betro
 kken bij de dagelijkse begeleiding van het werkplekleren van ASO's.
ORGANIZER;CN=no-reply@vub.be:no-reply@vub.be
DTSTAMP:20260424T011242Z
END:VEVENT
END:VCALENDAR