BEGIN:VCALENDAR
VERSION:2.0
PRODID:Calendar
METHOD:REQUEST
BEGIN:VEVENT
UID:bdf01bd62502341c16a339372c56cd53
DTSTART:20260522T160000Z
SEQUENCE:0
TRANSP:OPAQUE
DTEND:20260522T215900Z
LOCATION:VUB Main Campus Etterbeek - Pleinlaan 2\, 1050 Elsene
SUMMARY:LK Generations 2026
CLASS:PUBLIC
DESCRIPTION:Op vrijdag 22 mei 2026 nodigt faculteit LK haar studenten\, alu
 mni\, personeel en sympathisanten uit op het jaarlijks netwerkevent. Ambia
 nce à volonté!
ORGANIZER;CN=no-reply@vub.be:no-reply@vub.be
DTSTAMP:20260421T054035Z
END:VEVENT
END:VCALENDAR