BEGIN:VCALENDAR
VERSION:2.0
PRODID:Calendar
METHOD:REQUEST
BEGIN:VEVENT
UID:1aca7ef29eade22e8d3893ece9107940
DTSTART:20260513T120000Z
SEQUENCE:0
TRANSP:OPAQUE
DTEND:20260513T150000Z
LOCATION:VUB Health Campus Jette -  Laarbeeklaan  103\, 1090 Jette
SUMMARY:Training 'Opleiden binnen ondersteunende disciplines' - 14:00-17:00
CLASS:PUBLIC
DESCRIPTION:Bijscholing voor stagemeesters\, supervisoren en alle andere ar
 tsen betrokken bij de opleiding en/of evaluatie van ASO's op de werkvloer.
ORGANIZER;CN=no-reply@vub.be:no-reply@vub.be
DTSTAMP:20260424T011242Z
END:VEVENT
END:VCALENDAR