BEGIN:VCALENDAR
VERSION:2.0
PRODID:Calendar
METHOD:REQUEST
BEGIN:VEVENT
UID:624557fe59f25b7bd3111593a24dcf14
DTSTART:20260511T064500Z
SEQUENCE:0
TRANSP:OPAQUE
DTEND:20260511T150000Z
LOCATION:ACTO Taaltesten - Pleinlaan 11\, 1050 Elsene
SUMMARY:CNaVT-examen - 11/05/2026
CLASS:PUBLIC
DESCRIPTION:CNaVT-examen - 11/05/2026
ORGANIZER;CN=no-reply@vub.be:no-reply@vub.be
DTSTAMP:20260424T152546Z
END:VEVENT
END:VCALENDAR