BEGIN:VCALENDAR
VERSION:2.0
PRODID:Calendar
METHOD:REQUEST
BEGIN:VEVENT
UID:75501f7d4ce609c05ec0212c1dc8b7dd
DTSTART:20260427T150000Z
SEQUENCE:0
TRANSP:OPAQUE
DTEND:20260427T180000Z
LOCATION:Pilar - Triomflaan\, VUB  (Ingang 6) \, 1050 Brussel
SUMMARY:Workshop: Foraging the Campus
CLASS:PUBLIC
ORGANIZER;CN=no-reply@vub.be:no-reply@vub.be
DTSTAMP:20260423T090223Z
END:VEVENT
END:VCALENDAR