BEGIN:VCALENDAR
VERSION:2.0
PRODID:Calendar
METHOD:REQUEST
BEGIN:VEVENT
UID:d1b7cf9a2f13642e24d5657bc278c25c
DTSTART:20260520T160000Z
SEQUENCE:0
TRANSP:OPAQUE
DTEND:20260520T180000Z
LOCATION:Pilar - Triomflaan\, VUB  (Ingang 6) \, 1050 Brussel
SUMMARY:Messy Sessie: Dyeing textiles with plant pigments
CLASS:PUBLIC
DESCRIPTION:May 20 Pilar: hands-on workshop with artist Annelotte Lammertse
  on plant-based natural textile dyeing—extract pigments and dye fabric w
 ith dye plants.
ORGANIZER;CN=no-reply@vub.be:no-reply@vub.be
DTSTAMP:20260423T090245Z
END:VEVENT
END:VCALENDAR