BEGIN:VCALENDAR
VERSION:2.0
PRODID:Calendar
METHOD:REQUEST
BEGIN:VEVENT
UID:abbca36af686e11776e12419dcc97629
DTSTART:20260424T080000Z
SEQUENCE:0
TRANSP:OPAQUE
DTEND:20260424T150000Z
LOCATION:Pilar - Triomflaan\, VUB  (Ingang 6) \, 1050 Brussel
SUMMARY:Atelier: Responsive Recording
CLASS:PUBLIC
ORGANIZER;CN=no-reply@vub.be:no-reply@vub.be
DTSTAMP:20260423T090305Z
END:VEVENT
END:VCALENDAR