BEGIN:VCALENDAR
VERSION:2.0
PRODID:Calendar
METHOD:REQUEST
BEGIN:VEVENT
UID:10747204d3c85ab08021936bbec6c4c4
DTSTART:20260426T070000Z
SEQUENCE:0
TRANSP:OPAQUE
DTEND:20260426T130000Z
LOCATION: -  \,  
SUMMARY:Infodag zondag 26 april 2026
CLASS:PUBLIC
DESCRIPTION:Je bent op zoek naar een opleiding die bij jou past. Dat is nie
 t evident. Onze professoren geven je tijdens onze infodag alle informatie 
 die je nodig hebt.
ORGANIZER;CN=no-reply@vub.be:no-reply@vub.be
DTSTAMP:20260423T060537Z
END:VEVENT
END:VCALENDAR