BEGIN:VCALENDAR
VERSION:2.0
PRODID:Calendar
METHOD:REQUEST
BEGIN:VEVENT
UID:52941100588b60fe9617a305f198fcc0
DTSTART:20260830T070000Z
SEQUENCE:0
TRANSP:OPAQUE
DTEND:20260830T130000Z
LOCATION: -  \,  
SUMMARY:Infodag zondag 30 augustus 2026
CLASS:PUBLIC
DESCRIPTION:Je bent op zoek naar een opleiding die bij jou past. Dat is nie
 t evident. Onze professoren geven je tijdens onze infodag alle informatie 
 die je nodig hebt.
ORGANIZER;CN=no-reply@vub.be:no-reply@vub.be
DTSTAMP:20260424T011134Z
END:VEVENT
END:VCALENDAR