BEGIN:VCALENDAR
VERSION:2.0
PRODID:Calendar
METHOD:REQUEST
BEGIN:VEVENT
UID:d2f1ca713304d2225d839c0b4aae04f2
DTSTART:20260429T150000Z
SEQUENCE:0
TRANSP:OPAQUE
DTEND:20260429T173000Z
LOCATION:VUB Health Campus Jette -  Laarbeeklaan  103\, 1090 Jette
SUMMARY:Advancing CAR-T cell therapy for solid tumors using nanobodies: Dev
 eloping nanobody-based CARs and nanobody-displaying lentiviral vectors
CLASS:PUBLIC
ORGANIZER;CN=no-reply@vub.be:no-reply@vub.be
DTSTAMP:20260426T024002Z
END:VEVENT
END:VCALENDAR