BEGIN:VCALENDAR
VERSION:2.0
PRODID:Calendar
METHOD:REQUEST
BEGIN:VEVENT
UID:2f0facd2534c6043216e4f10d387b879
DTSTART:20260521T173000Z
SEQUENCE:0
TRANSP:OPAQUE
DTEND:20260521T190000Z
LOCATION: Vlaams-Nederlands Huis deBuren - Leopoldstraat 6\, 1000 Brussel
SUMMARY:Gesprek: A War Against Nature
CLASS:PUBLIC
DESCRIPTION:Ecocide en de verborgen impact van conflict.
ORGANIZER;CN=no-reply@vub.be:no-reply@vub.be
DTSTAMP:20260423T085851Z
END:VEVENT
END:VCALENDAR