BEGIN:VCALENDAR
VERSION:2.0
PRODID:Calendar
METHOD:REQUEST
BEGIN:VEVENT
UID:088b441427ff275963e8274b9e50961a
DTSTART:20261214T080000Z
SEQUENCE:0
TRANSP:OPAQUE
DTEND:20261214T160000Z
LOCATION:ACTO Taaltesten - Pleinlaan 11\, 1050 Elsene
SUMMARY:ITNA - 14 december 2026
CLASS:PUBLIC
DESCRIPTION:ITNA - 14 december 2026
ORGANIZER;CN=no-reply@vub.be:no-reply@vub.be
DTSTAMP:20260424T163519Z
END:VEVENT
END:VCALENDAR