BEGIN:VCALENDAR
VERSION:2.0
PRODID:Calendar
METHOD:REQUEST
BEGIN:VEVENT
UID:04f5b38cc26987bb6652db21f36e2093
DTSTART:20270518T070000Z
SEQUENCE:0
TRANSP:OPAQUE
DTEND:20270518T150000Z
LOCATION:ACTO Taaltesten - Pleinlaan 11\, 1050 Elsene
SUMMARY:ITNA - 18 mei 2027
CLASS:PUBLIC
DESCRIPTION:ITNA - 18 mei 2027
ORGANIZER;CN=no-reply@vub.be:no-reply@vub.be
DTSTAMP:20260424T163408Z
END:VEVENT
END:VCALENDAR