BEGIN:VCALENDAR
VERSION:2.0
PRODID:Calendar
METHOD:REQUEST
BEGIN:VEVENT
UID:ca427b0f4058f8d4c3af243b25d86868
DTSTART:20260505T123000Z
SEQUENCE:0
TRANSP:OPAQUE
DTEND:20260505T123000Z
SUMMARY:Regulatory coherence or misalignment in EU data law?
CLASS:PUBLIC
DESCRIPTION:Ms Bárbara da Rosa Lazarotto will defend her PhD in Law on Tue
 sday 5 May 2026 at 2:30 p.m.\, entitled: Regulatory coherence or misalignm
 ent in EU data law? 
ORGANIZER;CN=no-reply@vub.be:no-reply@vub.be
DTSTAMP:20260426T011527Z
END:VEVENT
END:VCALENDAR