BEGIN:VCALENDAR
VERSION:2.0
PRODID:Calendar
METHOD:REQUEST
BEGIN:VEVENT
UID:fc064431dba184544f54b71a867a0d10
DTSTART:20260512T133000Z
SEQUENCE:0
TRANSP:OPAQUE
DTEND:20260512T153000Z
LOCATION:VUB Main Campus Etterbeek - Pleinlaan 2\, 1050 Elsene
SUMMARY:A Machine Learning and Explainable AI Approach to Predict and Expla
 in Belgian Residential Real Estate Rent
CLASS:PUBLIC
ORGANIZER;CN=no-reply@vub.be:no-reply@vub.be
DTSTAMP:20260426T011507Z
END:VEVENT
END:VCALENDAR