BEGIN:VCALENDAR
VERSION:2.0
PRODID:Calendar
METHOD:REQUEST
BEGIN:VEVENT
UID:01c7e31f52ed4f9fb1eb3a92b9ae5323
DTSTART:20260428T110000Z
SEQUENCE:0
TRANSP:OPAQUE
DTEND:20260428T140000Z
LOCATION:VUB Main Campus Etterbeek - Pleinlaan 2\, 1050 Elsene
SUMMARY:Development of Nanobodies with a therapeutic and diagnostic potenti
 al in cancer
CLASS:PUBLIC
DESCRIPTION:de openbare verdediging van het proefschrift van Ema Romão ter
  behaling van de graad van Doctor in de Bio-ingenieurswetenschappen 
ORGANIZER;CN=no-reply@vub.be:no-reply@vub.be
DTSTAMP:20260424T142729Z
END:VEVENT
END:VCALENDAR