BEGIN:VCALENDAR
VERSION:2.0
PRODID:Calendar
METHOD:REQUEST
BEGIN:VEVENT
UID:affc27688374a34b5ca1159c2096e16d
DTSTART:20260429T140000Z
SEQUENCE:0
TRANSP:OPAQUE
DTEND:20260429T170000Z
LOCATION:VUB Main Campus Etterbeek - Pleinlaan 2\, 1050 Elsene
SUMMARY:Design of 5th generation district heating and cooling (5GDHC) syste
 m with seasonal thermal energy storage via GIS assessment
CLASS:PUBLIC
ORGANIZER;CN=no-reply@vub.be:no-reply@vub.be
DTSTAMP:20260426T023711Z
END:VEVENT
END:VCALENDAR