BEGIN:VCALENDAR
VERSION:2.0
PRODID:Calendar
METHOD:REQUEST
BEGIN:VEVENT
UID:c5f5443e10548cfd630178715dbc75af
DTSTART:20260427T150000Z
SEQUENCE:0
TRANSP:OPAQUE
DTEND:20260427T180000Z
LOCATION:VUB Main Campus Etterbeek - Pleinlaan 2\, 1050 Elsene
SUMMARY:Cobots designed for strength\, not stiffness: Structural optimizati
 on and vibration control
CLASS:PUBLIC
ORGANIZER;CN=no-reply@vub.be:no-reply@vub.be
DTSTAMP:20260426T011527Z
END:VEVENT
END:VCALENDAR