BEGIN:VCALENDAR
VERSION:2.0
PRODID:Calendar
METHOD:REQUEST
BEGIN:VEVENT
UID:4d2715fee779e9fa7c22633bb20752f2
DTSTART:20260516T120000Z
SEQUENCE:0
TRANSP:OPAQUE
DTEND:20260516T160000Z
LOCATION:Startpunt praalkar VUB-ULB - Ravensteinstraat \, 1000 Brussel
SUMMARY:Feest mee tijdens de Brussels Pride
CLASS:PUBLIC
DESCRIPTION:Op 16 mei kleurt Brussel opnieuw alle kleuren van de regenboog 
 tijdens Brussels Pride 2026. Vier en verdedig samen met ons de rechten en 
 vrijheden van LGBTQIA+.
ORGANIZER;CN=no-reply@vub.be:no-reply@vub.be
DTSTAMP:20260424T161341Z
END:VEVENT
END:VCALENDAR